BEGIN:VCALENDAR
VERSION:2.0
PRODID:-//wp-events-plugin.com//7.1.1//EN
TZID:Europe/London
X-WR-TIMEZONE:Europe/London
BEGIN:VEVENT
UID:22895@xyzbrighton.com
DTSTART;TZID=Europe/London:20241228T140000
DTEND;TZID=Europe/London:20241229T110000
DTSTAMP:20241001T161424Z
URL:https://xyzbrighton.com/events/fawlty-towers-revisited-weekend-28-12-2
 024/
SUMMARY:Fawlty Towers Revisited Weekend 28/12/2024
DESCRIPTION:Basil is not happy when the Hotel is booked by Simon Cowell for
  several Tribute acts\, due to the Hotel they originally booked having to 
 close due to a boiler failure.\nHear Abba sing like you never had before\,
  be amazed by Tommy Cooper\, Ken Dodd will have you tickled pink\, Austin 
 Powers is feeling Groovy\, Elvis is in the room and Eric Morecombe will Br
 ing you Sunshine.\nAll the above together with Basil\, Sybil and Manuel at
  their very best\, this will exercise chuckle muscles you never knew you h
 ad!\n\nURL:\nInquiries: https://go.evvnt.com/2650627-2?pid=11065\n\nDate a
 nd Time: On Sat\, 28 Dec 2024 14:00 - Sun\, 29 Dec 2024 11:00\n\nVenue det
 ails: Holiday Inn Brighton - Seafront\, an IHG Hotel\, 137 Kings Road\, Br
 ighton\, England\, BN1 2JF\, United Kingdom\n\nPrice: Weekend Package 2 Gu
 ests: GBP 265.00
ATTACH;FMTTYPE=image/jpeg:https://xyzbrighton.com/wp-content/uploads/2024/
 09/2650627_300.jpg
CATEGORIES:Comedy
LOCATION:Holiday Inn Brighton - Seafront\, an IHG Hotel\, 137 Kings Road\, 
 Brighton and Hove\, England\, BN1 2JF\, United Kingdom
GEO:50.822192;-0.152412
X-APPLE-STRUCTURED-LOCATION;VALUE=URI;X-ADDRESS=137 Kings Road\, Brighton a
 nd Hove\, England\, BN1 2JF\, United Kingdom;X-APPLE-RADIUS=100;X-TITLE=Ho
 liday Inn Brighton - Seafront\, an IHG Hotel:geo:50.822192,-0.152412
END:VEVENT
BEGIN:VTIMEZONE
TZID:Europe/London
X-LIC-LOCATION:Europe/London
BEGIN:STANDARD
DTSTART:20241027T010000
TZOFFSETFROM:+0100
TZOFFSETTO:+0000
TZNAME:GMT
END:STANDARD
END:VTIMEZONE
END:VCALENDAR