BEGIN:VCALENDAR
VERSION:2.0
PRODID:-//wp-events-plugin.com//7.1.1//EN
TZID:Europe/London
X-WR-TIMEZONE:Europe/London
BEGIN:VEVENT
UID:23609@xyzbrighton.com
DTSTART;TZID=Europe/London:20250824T000000
DTEND;TZID=Europe/London:20250825T200000
DTSTAMP:20250819T185527Z
URL:https://xyzbrighton.com/events/epidemik-takeover/
SUMMARY:Epidemik Takeover!
DESCRIPTION:Epidemik - in our 5th Year in Brighton - 2 arenas of mayhem - L
 ineup coming in full soon!\n\nExpect the very best - RC1 sound &amp\; much
  more - Super early birds ONLY £5\n\nEpidemik Brighton takeover at the Vo
 lks\n\nAugust bank holiday 23rd August\n11pm to 7am\n\n\n\nTwo rooms of dr
 um &amp\; bass / jungle &amp\; old skool \n\n&nbsp\;\n\n\nTicket link bel
 ow  - follow what's happening at: https://epidemik.uk/\n\nFacebook event p
 age: https://www.facebook.com/events/1419992195682343/\n\n\n
ATTACH;FMTTYPE=image/jpeg:https://xyzbrighton.com/wp-content/uploads/2025/
 08/EPIDEMIK.jpg
CATEGORIES:DJ / Clubbing
LOCATION:Volks\, 3\, The Colonnade\, Madeira Dr\, Brighton\, BN2 1PS\, Unit
 ed Kingdom
GEO:50.81716;-0.122425
X-APPLE-STRUCTURED-LOCATION;VALUE=URI;X-ADDRESS=3\, The Colonnade\, Madeira
  Dr\, Brighton\, BN2 1PS\, United Kingdom;X-APPLE-RADIUS=100;X-TITLE=Volks
 :geo:50.81716,-0.122425
END:VEVENT
BEGIN:VTIMEZONE
TZID:Europe/London
X-LIC-LOCATION:Europe/London
BEGIN:DAYLIGHT
DTSTART:20250330T020000
TZOFFSETFROM:+0000
TZOFFSETTO:+0100
TZNAME:BST
END:DAYLIGHT
END:VTIMEZONE
END:VCALENDAR