BEGIN:VCALENDAR
VERSION:2.0
PRODID:-//wp-events-plugin.com//7.1.1//EN
TZID:Europe/London
X-WR-TIMEZONE:Europe/London
BEGIN:VEVENT
UID:23607@xyzbrighton.com
DTSTART;TZID=Europe/London:20251011T103000
DTEND;TZID=Europe/London:20251012T143000
DTSTAMP:20250819T122648Z
URL:https://xyzbrighton.com/events/collage-weekend-with-rachel-cohen/
SUMMARY:Collage Weekend with Rachel Cohen
DESCRIPTION:Take part in this weekend course and explore the art of collage
 .In this two-day course we will explore several different approaches to co
 llage taking inspiration from 20th and 21st century artists. On Saturday w
 e will look at the work of Dada and Surrealist artists including\, Hannah 
 Höch and John Stezaker. We will play with found images and words cut out 
 from magazines and books\, recombining what we find to make strange faces\
 , creatures and scenes. In response to a 1956 work by Richard Hamilton we 
 will make collages about contemporary homes. Taking inspiration from the w
 ork of 20th century collage artist Kurt Schwitters we will make abstract c
 ollages of coloured and textured paper. Finally we will paint paper to use
  on Sunday in a large collage inspired by Henri Matisse’s cut outs.Suita
 ble for all levels.All materials will be provided but students are welcome
  to bring materials of their own.Image by previous course attendeeCosts: 
 £105Times: Saturday - 10.30-16.30 &amp\; Sunday - 10.30-14.30Dates: 11 - 
 12 OctoberLocation: Red RoomMaximum: 8Phoenix Art Space is a registered ch
 arity.When you purchase a ticket for one of our courses\, you're directly 
 supporting our work. We work hard to keep our prices as low as possible so
  our courses remain inclusive.If you're able to support us further\, we wa
 rmly welcome donations via our website.Rachel Cohen studied Art History (B
 A) at Sussex University and Fine Art (PG Dip) at Brighton. She has an MA i
 n museum and gallery education from the Institute of Education\, London. S
 he learned printmaking at a private college in Treviso\, Italy and at Kens
 ington and Chelsea Institute in London. Rachel works with wide range of te
 chniques and materials. She creates objects\, site-specific installations 
 and participatory events.
ATTACH;FMTTYPE=image/jpeg:https://xyzbrighton.com/wp-content/uploads/2025/
 02/100000_image.jpg
CATEGORIES:Arts
LOCATION:Phoenix Art Space\, 10-14 Waterloo Place\, Brighton\, BN2 9NB\, Br
 ighton\, England\, BN2 9NB\, United Kingdom
GEO:50.828839;-0.133762
X-APPLE-STRUCTURED-LOCATION;VALUE=URI;X-ADDRESS=10-14 Waterloo Place\, Brig
 hton\, BN2 9NB\, Brighton\, England\, BN2 9NB\, United Kingdom;X-APPLE-RAD
 IUS=100;X-TITLE=Phoenix Art Space:geo:50.828839,-0.133762
END:VEVENT
BEGIN:VTIMEZONE
TZID:Europe/London
X-LIC-LOCATION:Europe/London
BEGIN:DAYLIGHT
DTSTART:20250330T020000
TZOFFSETFROM:+0000
TZOFFSETTO:+0100
TZNAME:BST
END:DAYLIGHT
END:VTIMEZONE
END:VCALENDAR