BEGIN:VCALENDAR
VERSION:2.0
PRODID:-//wp-events-plugin.com//7.1.1//EN
TZID:Europe/London
X-WR-TIMEZONE:Europe/London
BEGIN:VEVENT
UID:23596@xyzbrighton.com
DTSTART;TZID=Europe/London:20251011T190000
DTEND;TZID=Europe/London:20251011T234500
DTSTAMP:20250813T133706Z
URL:https://xyzbrighton.com/events/catbear-album-launch-party-daltons/
SUMMARY:CATBEAR Album Launch Party @ Daltons
DESCRIPTION:CATBEAR Album Launch Party\nFresh from a sell-out Brighton show
  earlier this year\, alt-pop duo CATBEAR return for their final gig of 202
 5. Joined by Camille Phillips (The Subways) on drums\, their energetic set
  blends nostalgic synths with sharp alt-pop hooks. Expect shimmering synth
 s\, dark pop energy\, and emotionally-charged songs. Think Depeche Mode me
 ets The Cure\, with the urgency of CHVRCHES and the charisma of Yeah Yeah 
 Yeahs. With a new album on the horizon\, this is a rare chance to catch th
 em live as they preview new material and celebrate everything they’ve bu
 ilt so far.\n\nBuy your ticket before the end of August and you'll receive
  a free gift at the door!\n\nSupport from Saint Lore and more tbc\n\n“Pu
 rveyors of beautiful alt pop with a punky edge… highly\, highly recommen
 ded to catch them live”\n— BBC Introducing Surrey and Sussex\n
ATTACH;FMTTYPE=image/jpeg:https://xyzbrighton.com/wp-content/uploads/2025/
 08/Daltons-gig-CATBEAR-11th-October.jpeg
CATEGORIES:Live Music,Performance
LOCATION:Daltons\, Madeira Drive\, Brighton\, England\, BN2 1AE\, Brighton 
 and Hove\, United Kingdom
GEO:50.818118;-0.127399
X-APPLE-STRUCTURED-LOCATION;VALUE=URI;X-ADDRESS=Madeira Drive\, Brighton\, 
 England\, BN2 1AE\, Brighton and Hove\, United Kingdom;X-APPLE-RADIUS=100;
 X-TITLE=Daltons:geo:50.818118,-0.127399
END:VEVENT
BEGIN:VTIMEZONE
TZID:Europe/London
X-LIC-LOCATION:Europe/London
BEGIN:DAYLIGHT
DTSTART:20250330T020000
TZOFFSETFROM:+0000
TZOFFSETTO:+0100
TZNAME:BST
END:DAYLIGHT
END:VTIMEZONE
END:VCALENDAR