BEGIN:VCALENDAR
VERSION:2.0
PRODID:-//wp-events-plugin.com//7.1.1//EN
TZID:Europe/London
X-WR-TIMEZONE:Europe/London
BEGIN:VEVENT
UID:23612@xyzbrighton.com
DTSTART;TZID=Europe/London:20251011T190000
DTEND;TZID=Europe/London:20251011T220000
DTSTAMP:20250819T223606Z
URL:https://xyzbrighton.com/events/catbear-album-launch-headline-show/
SUMMARY:Catbear - album launch\, headline show!
DESCRIPTION:Following their sell out show in Brighton earlier in the year
 \, CATBEAR's last show of 2025 is going to be a big one. Ahead of their al
 bum release\, this will be a lively night with new music and much to celeb
 rate.\n\nJoined by Camille Philipps of The Subways on drums their live sho
 w combines the immersive synths of Depeche Mode with the indie melodies of
  The Cure and the charismatic energy of the Yeah Yeah Yeahs.\n\nCATBEAR is
  the alt-pop project of best friends Zoe and Sarah\, shaped by the indie\,
  synth-pop and electronic sounds of the 80s\, 90s\, and 00s. Their songs e
 xplore the emotional landscapes that keep us up at night - joy\, anxiety\,
  heartbreak\, longing and hope - with a sound that moves between bright po
 p melodies and darker\, moodier textures.\n\nTheir music has reached liste
 ners around the world\, with millions of streams and a growing fanbase dra
 wn to their blend of nostalgic soundscapes and emotionally direct lyrics. 
 They’ve performed at festivals including The Great Escape and Bristol Pr
 ide\, and shared stages with artists such as The Subways\, The Human Leagu
 e and Ladytron. Support from Arts Council England and Help Musicians has a
 llowed them to continue building momentum\, independently and on their own
  terms. Their second album will be released in the autumn.\n\nBuy your tic
 ket before the end of August to get a free gift on the door!\n\nAlso\, buy
  using the link below and there are no booking fees.\n\nhttps://www.youtub
 e.com/watch?v=znoE2Le-9RE&amp\;t=1s\n\n&nbsp\;
ATTACH;FMTTYPE=image/jpeg:https://xyzbrighton.com/wp-content/uploads/2025/
 08/Daltons-gig-CATBEAR-11th-October.jpeg.jpg
CATEGORIES:Live Music
LOCATION:Daltons\, Lower Promenade\, Brighton\, England\, BN2 1TB\, United 
 Kingdom
X-APPLE-STRUCTURED-LOCATION;VALUE=URI;X-ADDRESS=Lower Promenade\, Brighton\
 , England\, BN2 1TB\, United Kingdom;X-APPLE-RADIUS=100;X-TITLE=Daltons:ge
 o:0,0
END:VEVENT
BEGIN:VTIMEZONE
TZID:Europe/London
X-LIC-LOCATION:Europe/London
BEGIN:DAYLIGHT
DTSTART:20250330T020000
TZOFFSETFROM:+0000
TZOFFSETTO:+0100
TZNAME:BST
END:DAYLIGHT
END:VTIMEZONE
END:VCALENDAR