BEGIN:VCALENDAR
VERSION:2.0
PRODID:-//wp-events-plugin.com//7.1.1//EN
TZID:Europe/London
X-WR-TIMEZONE:Europe/London
BEGIN:VEVENT
UID:22378@xyzbrighton.com
DTSTART;TZID=Europe/London:20221221T200000
DTEND;TZID=Europe/London:20231231T220000
DTSTAMP:20231004T135440Z
URL:https://xyzbrighton.com/events/cabaret-show-with-free-drink-token-at-b
 ar-broadway-4/
SUMMARY:Cabaret Show with FREE drink token at Bar Broadway
DESCRIPTION:Enjoy out FREE show with a FREE drink token at Bar Broadway eve
 ry Wed\, Fri and Sun from 8PM. One valid with a full price drink.\n\n\n\nS
 tep right up and join us for an evening of pure entertainment at our spect
 acular cabaret show! From 8pm to 10pm\, we'll be featuring the crème de l
 a crème of performers from across the UK\, showcasing their singing\, dan
 cing\, and comedy talents to captivate audiences of all tastes.\n\nTo star
 t the night off on the right foot\, we'll be treating all of our guests to
  a complimentary drink token. So be sure to arrive early\, grab a refreshi
 ng beverage\, and settle in for a night of unforgettable entertainment.\n\
 nThe best part? Our cabaret show is completely free of charge\, so there's
  no need to worry about spending a fortune to have a great time. Just show
  up at 8pm and let us do the rest.\n\nWe can hardly contain our excitement
  and can't wait to welcome you to our show. Please keep in mind that while
  the first drink is on us\, it will be a token that can be redeemed for a 
 complimentary drink with the purchase of a full-price drink.\n\n\n\n
ATTACH;FMTTYPE=image/jpeg:https://xyzbrighton.com/wp-content/uploads/2023/
 10/97709_image.png
CATEGORIES:Cabaret
LOCATION:Bar Broadway\, 10 Steine Street\, Kemptown\, BN2 1TY\, Kemptown\, 
 England\, BN2 1TY\, United Kingdom
GEO:50.820826;-0.136031
X-APPLE-STRUCTURED-LOCATION;VALUE=URI;X-ADDRESS=10 Steine Street\, Kemptown
 \, BN2 1TY\, Kemptown\, England\, BN2 1TY\, United Kingdom;X-APPLE-RADIUS=
 100;X-TITLE=Bar Broadway:geo:50.820826,-0.136031
END:VEVENT
BEGIN:VTIMEZONE
TZID:Europe/London
X-LIC-LOCATION:Europe/London
BEGIN:STANDARD
DTSTART:20221030T010000
TZOFFSETFROM:+0100
TZOFFSETTO:+0000
TZNAME:GMT
END:STANDARD
BEGIN:DAYLIGHT
DTSTART:20230326T020000
TZOFFSETFROM:+0000
TZOFFSETTO:+0100
TZNAME:BST
END:DAYLIGHT
BEGIN:STANDARD
DTSTART:20231029T010000
TZOFFSETFROM:+0100
TZOFFSETTO:+0000
TZNAME:GMT
END:STANDARD
END:VTIMEZONE
END:VCALENDAR