BEGIN:VCALENDAR
VERSION:2.0
PRODID:-//wp-events-plugin.com//7.1.1//EN
TZID:Europe/London
X-WR-TIMEZONE:Europe/London
BEGIN:VEVENT
UID:21972@xyzbrighton.com
DTSTART;TZID=Europe/London:20230603T224500
DTEND;TZID=Europe/London:20230603T234500
DTSTAMP:20230515T083425Z
URL:https://xyzbrighton.com/events/bumble-me-tinders-dating-horror-stories
 -at-the-brighton-fringe-caroline-of-brunswick-2023-06-03/
SUMMARY:Bumble Me Tinders! Dating horror stories at the Brighton Fringe @ C
 aroline of Brunswick
DESCRIPTION:The risqué sensation is back! After sold-out runs at the Edinb
 urgh Festival Fringe and the Perth Fringe World festival\, the interactive
  and ever-evolving circus of debauchery returns to Brighton! Watch comedia
 ns share stories\, lead audience games\, provide good and bad dating advic
 e\, and much more.\n\nThere is no better show to grab a bunch of friends a
 nd feel better about dating disasters past and present! \n\nNever the same
  show twice\, Bumble Me Tinders offers hilarity and surprises for audience
 s of all backgrounds - singles\, couples\, young\, old\, kinky\, prude\, p
 olite or rude. The perfect way to end your day at the Fringe!\n\nA totally
  anonomous\, fun\, and rowdy night above the charming and historic Carolin
 e of Brunswick.
ATTACH;FMTTYPE=image/jpeg:https://xyzbrighton.com/wp-content/uploads/2023/
 05/240113335_2278710615598238_6103822016380626410_n.jpeg
CATEGORIES:Arts,Comedy,Festivals,Parties,Performance,Students,Theatre
LOCATION:Caroline Of Brunswick\, 39 Ditchling Road\, Brighton and Hove\, En
 gland\, BN1 4SB\, South East\, United Kingdom
GEO:50.83035;-0.134737
X-APPLE-STRUCTURED-LOCATION;VALUE=URI;X-ADDRESS=39 Ditchling Road\, Brighto
 n and Hove\, England\, BN1 4SB\, South East\, United Kingdom;X-APPLE-RADIU
 S=100;X-TITLE=Caroline Of Brunswick:geo:50.83035,-0.134737
END:VEVENT
BEGIN:VTIMEZONE
TZID:Europe/London
X-LIC-LOCATION:Europe/London
BEGIN:DAYLIGHT
DTSTART:20230326T020000
TZOFFSETFROM:+0000
TZOFFSETTO:+0100
TZNAME:BST
END:DAYLIGHT
END:VTIMEZONE
END:VCALENDAR