BEGIN:VCALENDAR
VERSION:2.0
PRODID:-//wp-events-plugin.com//7.1.1//EN
TZID:Europe/London
X-WR-TIMEZONE:Europe/London
BEGIN:VEVENT
UID:3131@xyzbrighton.com
DTSTART;TZID=Europe/London:20191203T180000
DTEND;TZID=Europe/London:20191203T233000
DTSTAMP:20191129T125949Z
URL:https://xyzbrighton.com/events/broken-2019-12-03/
SUMMARY:Broken
DESCRIPTION:Student night with Dj spinning tunes. Pints at £ 2.50\, shots 
 \, bombs - whats not to like !\n\n
ATTACH;FMTTYPE=image/jpeg:https://xyzbrighton.com/wp-content/uploads/2019/
 01/BROKEN-POSTER-FINAL-21.12.18.jpeg
CATEGORIES:DJ / Clubbing,Free
LOCATION:Richmond Bar\, The Richmond Bar\, Richmond Place \, Brighton and H
 ove\, England\, BN2 9NA\, United Kingdom
GEO:50.827932;-0.134266
X-APPLE-STRUCTURED-LOCATION;VALUE=URI;X-ADDRESS=The Richmond Bar\, Richmond
  Place \, Brighton and Hove\, England\, BN2 9NA\, United Kingdom;X-APPLE-R
 ADIUS=100;X-TITLE=Richmond Bar:geo:50.827932,-0.134266
END:VEVENT
BEGIN:VTIMEZONE
TZID:Europe/London
X-LIC-LOCATION:Europe/London
BEGIN:STANDARD
DTSTART:20191027T010000
TZOFFSETFROM:+0100
TZOFFSETTO:+0000
TZNAME:GMT
END:STANDARD
END:VTIMEZONE
END:VCALENDAR