BEGIN:VCALENDAR
VERSION:2.0
PRODID:-//wp-events-plugin.com//7.1.1//EN
TZID:Europe/London
X-WR-TIMEZONE:Europe/London
BEGIN:VEVENT
UID:22005@xyzbrighton.com
DTSTART;TZID=Europe/London:20230701T110000
DTEND;TZID=Europe/London:20230701T160000
DTSTAMP:20230527T110743Z
URL:https://xyzbrighton.com/events/brighton-makers-market/
SUMMARY:Brighton Maker's Market
DESCRIPTION:Returning for the summer season\, Brighton's buzzing outdoor Ma
 kers &amp\; Artist Creative Market!\n\nWe welcome you to come along to Pap
 er Daisy Events Brighton's Makers Market\, on Sat 1st July.\n\nHeld in a c
 onvenient and central location\, free to attend and full of talented local
  makers\, artists &amp\; local small businesses for a unique\, quaint shop
 ping experience in a lovely friendly environment.\n\nWithin the grounds of
  the sheltered gardens of The Brighthelm Centre expect to find an unique &
 amp\; eclectic mix of makers\, artists\, designers\, local produce and loc
 al small independent businesses\, all ready to welcome you with a friendly
  smile.\n\nWith a grassed area where you can grab a cake/bite to eat and c
 hill\, it’s the perfect spot to take some time out of a busy Saturday in
  Brighton and support your local businesses and shop small.\n\nHeld every 
 1st Saturday of the month\, May-September make sure this is a date for you
 r diary. With regular and new traders at every event you’ll always find 
 a reason to keep coming back! Next event Pride Special Sat 5th August!\n\n
 Your opportunity to shop local\, support small biz and keep events like th
 is going!\n\nDog friendly\, free entry.\n11-4pm\nDisabled access via North
  Road/Church Street.\n\nBrighthelm Church Gardens\nQueens Road\nBrighton\n
 BN1 1YD\n\nMinutes away from Brighton train station\, Churchill Square sho
 pping mall and North Laines.\n\nNext Paper Daisy events - This Is Brighton
  Maker &amp\; Design Fair Sat 22/23 July Wagner Hall.\nBrighton Makers Mar
 kets\, Brighthelm Gardens Sat 5th August (Pride Special)\, Sat 2nd Sept.\n
 \n&nbsp\;
ATTACH;FMTTYPE=image/jpeg:https://xyzbrighton.com/wp-content/uploads/2023/
 05/original-brighthelm-1.jpg
CATEGORIES:Shopping
LOCATION:Brighthelm Centre\, North Road\, Brighton\, East Sussex\, BN1 1YD\
 , United Kingdom
GEO:50.825859;-0.140412
X-APPLE-STRUCTURED-LOCATION;VALUE=URI;X-ADDRESS=North Road\, Brighton\, Eas
 t Sussex\, BN1 1YD\, United Kingdom;X-APPLE-RADIUS=100;X-TITLE=Brighthelm 
 Centre:geo:50.825859,-0.140412
END:VEVENT
BEGIN:VTIMEZONE
TZID:Europe/London
X-LIC-LOCATION:Europe/London
BEGIN:DAYLIGHT
DTSTART:20230326T020000
TZOFFSETFROM:+0000
TZOFFSETTO:+0100
TZNAME:BST
END:DAYLIGHT
END:VTIMEZONE
END:VCALENDAR