BEGIN:VCALENDAR
VERSION:2.0
PRODID:-//wp-events-plugin.com//7.1.1//EN
TZID:Europe/London
X-WR-TIMEZONE:Europe/London
BEGIN:VEVENT
UID:20441@xyzbrighton.com
DTSTART;TZID=Europe/London:20220929T193000
DTEND;TZID=Europe/London:20221002T124500
DTSTAMP:20220907T124201Z
URL:https://xyzbrighton.com/events/brighton-jazz-festival-2022-horatios-ba
 r-brighton-palace-pier/
SUMMARY:Brighton Jazz Festival 2022 @ Horatios Bar\, Brighton Palace Pier
DESCRIPTION:BRIGHTON JAZZ FESTIVAL 2022 \nwww.brightonjazzfestival.co.uk\n
 September 29th - October 2nd 2022 Horatios Bar Brighton Palace Pier \nAft
 er the storming success of the 2021 relaunch Brighton Jazz Festival will b
 e returning to Brighton's iconic Palace Pier with four days of world class
  music with an amazing array of international jazz artists from the deep t
 radition to the cutting edge. Featuring an incredible line-up starring Gra
 mmy award winning trumpeter and composer KEYON HARROLD alongside some of t
 he brightest stars of the UK jazz scene. \n\nAll concerts take place in H
 oratios Bar at the end of the pier\, with sweeping views across the coast.
 \n\n&nbsp\;
ATTACH;FMTTYPE=image/jpeg:https://xyzbrighton.com/wp-content/uploads/2022/
 09/Main-Poster-square-Insta.jpg
CATEGORIES:Festivals
LOCATION:Brighton Palace Pier\, Madeira Drive\, Brighton\, BN2 1TW\, United
  Kingdom
GEO:50.819106;-0.136477
X-APPLE-STRUCTURED-LOCATION;VALUE=URI;X-ADDRESS=Madeira Drive\, Brighton\, 
 BN2 1TW\, United Kingdom;X-APPLE-RADIUS=100;X-TITLE=Brighton Palace Pier:g
 eo:50.819106,-0.136477
END:VEVENT
BEGIN:VTIMEZONE
TZID:Europe/London
X-LIC-LOCATION:Europe/London
BEGIN:DAYLIGHT
DTSTART:20220327T020000
TZOFFSETFROM:+0000
TZOFFSETTO:+0100
TZNAME:BST
END:DAYLIGHT
END:VTIMEZONE
END:VCALENDAR