BEGIN:VCALENDAR
VERSION:2.0
PRODID:-//wp-events-plugin.com//7.1.1//EN
TZID:Europe/London
X-WR-TIMEZONE:Europe/London
BEGIN:VEVENT
UID:20978@xyzbrighton.com
DTSTART:20221215T193000Z
DTEND:20221215T230000Z
DTSTAMP:20221211T182715Z
URL:https://xyzbrighton.com/events/bimm-brighton-live-concorde-2/
SUMMARY:BIMM Brighton Live @ Concorde 2
DESCRIPTION:Come and enjoy a night of outstanding live performances from so
 me of BIMM Brighton’s finest musicians!\n\n\n\nOver 20 up and coming ban
 ds will take to the stage for an unforgettable night of live music in supp
 ort of our recognised charity Martlets Hospice!\n\nDoors: 7:30pm\n\nShowti
 me: 8pm\n\nDate: Thursday 15/12/22\n\nLocation: Concorde 2\n\nEntry: £3 (
 14+ • Under 16s must be accompanied by an adult)\n\nPlease make sure to 
 bring valid I.D for the bar.\n\nAll proceeds from door takings go to Martl
 ets Hospice.\n\n\n
ATTACH;FMTTYPE=image/jpeg:https://xyzbrighton.com/wp-content/uploads/2022/
 12/94204_image.jpg
CATEGORIES:Live Music
LOCATION:Concorde2\, Concorde2\, Madeira Drive\, Brighton\, BN2 1EN\, Unite
 d Kingdom
GEO:50.81716;-0.122425
X-APPLE-STRUCTURED-LOCATION;VALUE=URI;X-ADDRESS=Concorde2\, Madeira Drive\,
  Brighton\, BN2 1EN\, United Kingdom;X-APPLE-RADIUS=100;X-TITLE=Concorde2:
 geo:50.81716,-0.122425
END:VEVENT
END:VCALENDAR