BEGIN:VCALENDAR
VERSION:2.0
PRODID:-//wp-events-plugin.com//7.1.1//EN
TZID:Europe/London
X-WR-TIMEZONE:Europe/London
BEGIN:VEVENT
UID:18419@xyzbrighton.com
DTSTART;TZID=Europe/London:20220105T000000
DTEND;TZID=Europe/London:20220105T230000
DTSTAMP:20210216T231235Z
URL:https://xyzbrighton.com/events/bill-bailey/
SUMMARY:Bill Bailey at the Brighton Centre
DESCRIPTION: Wed 05 Jan 2022 (Subject to change) \nDoors 7pm - Show 8PM\nTi
 ckets from £39.05\nHow did we get here? How do we find our way through th
 is? And exactly who are we again?\n\nIn this new show\, Strictly Come Danc
 ing’s newest star tries to see a way through the weird unreality of our 
 new world. Tracing lines through chaotic moments in our past\, Bill seeks 
 out parallels where human resilience and our ability to endure has got us 
 through times of strife.\n\nHe recounts his own experiences of dealing wit
 h isolation\, including his thoughts on the ‘sounds of lockdown’. Thro
 ugh music\, songs\, and memories\, Bill considers (among many other things
 !) our changing priorities\, the wonder of dogs\, how little things can ke
 ep you on track and his new-found love of skydiving.\n\nEN ROUTE TO NORMAL
  is not just a funny\, heartwarming mix of stories\, music and history\, b
 ut a personal mission to chart a course through these Strange Days!\n\n&nb
 sp\;\n“Bailey live is a joy to behold.” - The Evening Standard\n“Th
 e finest stand-up comedian this country has to offer” - The Times\n“S
 till one of the funniest and most brilliantly original comedians around.
 ” - The Telegraph\n“Hilarious\, unmissable... leaves you gasping.” 
 - The Sunday Times\n&nbsp\;\nPlease be in time\, if you're late you won't 
 be admitted
ATTACH;FMTTYPE=image/jpeg:https://xyzbrighton.com/wp-content/uploads/2021/
 02/BILL-BAILEY.jpg
CATEGORIES:Comedy,Performance
LOCATION:Brighton Centre\, Brighton centre\, Kings Road\,\, Brighton\, BN1 
 2GR\, United Kingdom
GEO:50.820984;-0.146551
X-APPLE-STRUCTURED-LOCATION;VALUE=URI;X-ADDRESS=Brighton centre\, Kings Roa
 d\,\, Brighton\, BN1 2GR\, United Kingdom;X-APPLE-RADIUS=100;X-TITLE=Brigh
 ton Centre:geo:50.820984,-0.146551
END:VEVENT
BEGIN:VTIMEZONE
TZID:Europe/London
X-LIC-LOCATION:Europe/London
BEGIN:STANDARD
DTSTART:20211031T010000
TZOFFSETFROM:+0100
TZOFFSETTO:+0000
TZNAME:GMT
END:STANDARD
END:VTIMEZONE
END:VCALENDAR