BEGIN:VCALENDAR
VERSION:2.0
PRODID:-//wp-events-plugin.com//7.1.1//EN
TZID:Europe/London
X-WR-TIMEZONE:Europe/London
BEGIN:VEVENT
UID:3108@xyzbrighton.com
DTSTART;TZID=Europe/London:20190302T000000
DTEND;TZID=Europe/London:20190302T050000
DTSTAMP:20191122T035949Z
URL:https://xyzbrighton.com/events/bass-levels-majistrate-sub-zero-b2b-lim
 ited-tsuki-simula-at-the-arch/
SUMMARY:Bass Levels: Majistrate\, Sub Zero b2b Limited\, Tsuki\, Simula at 
 The Arch
DESCRIPTION:Bass Levels bring an incredible drum &amp\; bass show on Friday
  1st March! Majistrate\, Sub Zero b2b Limited\, Tsuki and Simula at The Ar
 ch\, Brighton.\nBass Levels: Majistrate\, Sub Zero b2b Limited\, Tsuki\, S
 imula\n\nOn Friday 1st March\, Bass Levels returns home to The Arch for it
 's first show of 2019!\nBringing you the best in Drum &amp\; Bass\, we hav
 e a stacked line-up featuring some of the best iconic and newer bloods\nMa
 in Room:\nMajistrate\nSub Zero b2b Limited\nTsuki\nSimula\n+ more tba\nThe
  Den:\ntba\nArtist Information\n\n\n\nMajistrate\n\n\n\nSub Zero\n\n\n\nTs
 uki\n\n\n\nLimited\n\n\nMusic Genres\nBass Music\, Bassline\, Drum n Bass\
 , Dubstep\n
CATEGORIES:DJ / Clubbing,Theatre
LOCATION:\, \, 
X-APPLE-STRUCTURED-LOCATION;VALUE=URI;X-ADDRESS=\, ;X-APPLE-RADIUS=100;X-TI
 TLE=:geo:0,0
END:VEVENT
BEGIN:VTIMEZONE
TZID:Europe/London
X-LIC-LOCATION:Europe/London
BEGIN:STANDARD
DTSTART:20181028T010000
TZOFFSETFROM:+0100
TZOFFSETTO:+0000
TZNAME:GMT
END:STANDARD
END:VTIMEZONE
END:VCALENDAR