BEGIN:VCALENDAR
VERSION:2.0
PRODID:-//wp-events-plugin.com//7.1.1//EN
TZID:Europe/London
X-WR-TIMEZONE:Europe/London
BEGIN:VEVENT
UID:24532@xyzbrighton.com
DTSTART;TZID=Europe/London:20250914T180000
DTEND;TZID=Europe/London:20250914T190000
DTSTAMP:20250906T074218Z
URL:https://xyzbrighton.com/events/award-winning-csi-crime-scene-improvisa
 tion-returns-to-komedia-brighton-14th-september/
SUMMARY:Award-winning 'CSI: Crime Scene Improvisation' returns to Komedia\,
  Brighton | 14th September
DESCRIPTION:Mirth meets murder in the world's daftest whodunnit. Following 
 multiple five-star sell-out runs at the Edinburgh Fringe\, festival favour
 ite 'CSI: Crime Scene Improvisation' returns to Brighton (sell-outs 2015 -
  2025) with the rip-roaring crime comedy made up entirely on the spot.\n\n
 A fully improvised\, witty and absurd murder mystery where you create the 
 crime. No one knows who the killer is\, not even the cast!\n\nWINNER Best 
 Musical/Improv Show - Leicester Comedy Festival 2023\nWINNER The Comedy Aw
 ard - Colchester Fringe 2024\n\nA TRULY FANTASTIC SHOW THAT YOU WILL TALK 
 ABOUT FOR YEARS TO COME\n- Theatre and Tonic\, *****\n\nSO FUNNY IT WOULD 
 BE A CRIME TO MISS IT\n- Curtain Call Reviews\, *****\n\nA NOVEL IDEA EXEC
 UTED SUPERBLY\n- The Wee Review\, *****\n\nQUICK THINKING AND FAST-PACED. 
 A SPECTACULAR MUST-SEE\n- Bunbury Magazine\, *****\n\nURLs:\nTickets: http
 s://go.evvnt.com/3223450-0?pid=11065\nWebsite: https://go.evvnt.com/322345
 0-2?pid=11065\nInstagram: https://go.evvnt.com/3223450-3?pid=11065\n\nPric
 es:\nGeneral Admission: GBP 12.00\,\nConcessions: GBP 10.00\n\nArtists: Th
 e Chandeliers\, Lee Apsey\, James Cann\, Isabelle Glinn\, Mandeep Singh\, 
 Nicola Lucey\n\nCategory: Arts | Performing Arts | Comedy\n\nDate and Time
 : 14th September 2025 at 6:00 pm to 7:00 pm\n\nVenue details: Komedia Brig
 hton\, 44-47 Gardner Street\, Brighton\, England\, BN1 1UN\, United Kingdo
 m
ATTACH;FMTTYPE=image/jpeg:https://xyzbrighton.com/wp-content/uploads/2025/
 09/300.jpg
CATEGORIES:Comedy
LOCATION:Komedia Brighton\, 44-47 Gardner Street\, Brighton and Hove\, Engl
 and\, BN1 1UN\, United Kingdom
GEO:50.824919;-0.139327
X-APPLE-STRUCTURED-LOCATION;VALUE=URI;X-ADDRESS=44-47 Gardner Street\, Brig
 hton and Hove\, England\, BN1 1UN\, United Kingdom;X-APPLE-RADIUS=100;X-TI
 TLE=Komedia Brighton:geo:50.824919,-0.139327
END:VEVENT
BEGIN:VTIMEZONE
TZID:Europe/London
X-LIC-LOCATION:Europe/London
BEGIN:DAYLIGHT
DTSTART:20250330T020000
TZOFFSETFROM:+0000
TZOFFSETTO:+0100
TZNAME:BST
END:DAYLIGHT
END:VTIMEZONE
END:VCALENDAR