BEGIN:VCALENDAR
VERSION:2.0
PRODID:-//wp-events-plugin.com//7.1.1//EN
TZID:Europe/London
X-WR-TIMEZONE:Europe/London
BEGIN:VEVENT
UID:2938@xyzbrighton.com
DTSTART;TZID=Europe/London:20190216T190000
DTEND;TZID=Europe/London:20190216T190000
DTSTAMP:20191122T030140Z
URL:https://xyzbrighton.com/events/avi-buffalo/
SUMMARY:AVI BUFFALO
DESCRIPTION:“a cascade of gorgeous melody” – NME\n“warm\, Californi
 an\, exceptional\, impeccable guitars” – The Guardian\n“Like the xx 
 raised on a diet of Built to Spill and the Shins\, Avi Buffalo is confiden
 t and deft” – Pitchfork\n\nWhile his Millikan High School classmates w
 ere preoccupied with quaint and youthful pursuits\, Avi Buffalo was busy m
 aking an off-kilter pop gem that eventually bowled over NME\, The AV Club\
 , Pitchfork\, the BBC\, and numerous other outlets on both sides of the At
 lantic whose tastes are respected by the general public. Like a lot of kid
 s his age\, Avi celebrated the end of high school in Europe\, but instead 
 of visiting the Louvre and Buckingham Palace\, their overseas journeys too
 k them to the festival stages of Reading\, Leeds\, Glastonbury\, the Pavem
 ent-curated All Tomorrow’s Parties in Minehead\, and beyond. Buffalo is 
 ready to take on the world (again)\, armed with all of the experience he
 ’s compiled over the past few years. And he’s made sure this time arou
 nd will be just as memorable as the first.\n\nhttps://www.youtube.com/watc
 h?v=-yZmYKZmDzI\nhttps://www.facebook.com/avibuffalomusic\nhttps://www.ins
 tagram.com/avibuffalo\nhttps://twitter.com/avibuffalo\n&nbsp\;\nLOWPINES\n
 “Lowpines thrives on a remarkable sense of intimacy. Gently sketched out
  vignettes achieve a rare level of lyrical honesty\, delivering home truth
 s in an unadorned\, direct and emotional manner. Check it out now” – C
 lash Magazine\nGALANGAS\nNew Brighton outfit! Fusing world music rhythms w
 ith psych pop sounds and surf guitar tones.\n&nbsp\;
ATTACH;FMTTYPE=image/jpeg:https://xyzbrighton.com/wp-content/uploads/2019/
 02/AVI-BUFFALO_Brighton.jpg
CATEGORIES:Live Music
LOCATION:\, \, 
X-APPLE-STRUCTURED-LOCATION;VALUE=URI;X-ADDRESS=\, ;X-APPLE-RADIUS=100;X-TI
 TLE=:geo:0,0
END:VEVENT
BEGIN:VTIMEZONE
TZID:Europe/London
X-LIC-LOCATION:Europe/London
BEGIN:STANDARD
DTSTART:20181028T010000
TZOFFSETFROM:+0100
TZOFFSETTO:+0000
TZNAME:GMT
END:STANDARD
END:VTIMEZONE
END:VCALENDAR