BEGIN:VCALENDAR
VERSION:2.0
PRODID:-//wp-events-plugin.com//7.1.1//EN
TZID:Europe/London
X-WR-TIMEZONE:Europe/London
BEGIN:VEVENT
UID:22239@xyzbrighton.com
DTSTART;TZID=Europe/London:20231201T180000
DTEND;TZID=Europe/London:20231201T203000
DTSTAMP:20231004T110357Z
URL:https://xyzbrighton.com/events/artists-and-makers-exclusive-opening-ni
 ght/
SUMMARY:Artists and Makers - Exclusive Opening Night
DESCRIPTION:An exclusive opportunity to attend the Artists & Makers Fair at
  a special opening nightJoin us for this very special Exclusive Opening Ni
 ght\, from only £5Why come on Friday Night- Get a 'first look' at our won
 derful stalls- Opportunity to enjoy the evening with less people attending
 - Pre-booked tickets and guaranteed speedy entry- Enjoy an evening out wit
 h friends with music from our fantastically festive DJ-﻿ Bar serving coc
 ktails\, Artelium Curators Cuvee 2018 and a range of local beers and other
  drinks-﻿ Food on sale from the delicious Feature Kitchen - Fancy a free
  glass of Artelium Curators Cuvee 2018 and free entry into the raffle? Cho
 ose our premium 'Treats Ticket' - Other special Friday night only activiti
 es
ATTACH;FMTTYPE=image/jpeg:https://xyzbrighton.com/wp-content/uploads/2023/
 10/97301_image.jpg
CATEGORIES:Festivals
LOCATION:Lewes Town Hall\, High Street\, Lewes\, BN7 2Q5\, Lewes\, East Sus
 sex\, BN7 2Q5\, United Kingdom
GEO:50.8725;0.0083
X-APPLE-STRUCTURED-LOCATION;VALUE=URI;X-ADDRESS=High Street\, Lewes\, BN7 2
 Q5\, Lewes\, East Sussex\, BN7 2Q5\, United Kingdom;X-APPLE-RADIUS=100;X-T
 ITLE=Lewes Town Hall:geo:50.8725,0.0083
END:VEVENT
BEGIN:VTIMEZONE
TZID:Europe/London
X-LIC-LOCATION:Europe/London
BEGIN:STANDARD
DTSTART:20231029T010000
TZOFFSETFROM:+0100
TZOFFSETTO:+0000
TZNAME:GMT
END:STANDARD
END:VTIMEZONE
END:VCALENDAR