BEGIN:VCALENDAR
VERSION:2.0
PRODID:-//wp-events-plugin.com//7.1.1//EN
TZID:Europe/London
X-WR-TIMEZONE:Europe/London
BEGIN:VEVENT
UID:20142@xyzbrighton.com
DTSTART;TZID=Europe/London:20220707T180000
DTEND;TZID=Europe/London:20220707T230000
DTSTAMP:20220627T090948Z
URL:https://xyzbrighton.com/events/ambit-pop-tour-savage-pencil-magazine-f
 ilm-workshop-music/
SUMMARY:Ambit Pop Tour — Savage Pencil: Magazine + Film + Workshop + Musi
 c
DESCRIPTION:Join us for an incredible evening of counterculture and creativ
 e intrigue.\n\nAmbit Pop is coming to Brighton! \n\nTaking place at The P
 rince Albert on 7th July at 6pm\, the event will feature a Make-Yer-Own-Me
 rch workshop\, short film\, live performances and Q&amp\;A with Ambit Pop
 ’s guest editor Savage Pencil (Nick Cave\, The Fall\, Sunn O)))\, Lydia 
 Lunch\, Sonic Youth) hosted by Stephen Mallinder (Cabaret Voltaire).\n\nBa
 rbara Frost &amp\; Savage Pencil will be hosting a workshop on automatic d
 rawing / 'channelling the creative juju'\, and live music performances com
 e from The Jonny Halifax Invocation &amp\; Vagrant Lovers.\n\nEntry includ
 es a limited edition Ambit Pop magazine. \n\n&nbsp\;\n\nambitmagazine.co.
 uk\n\nRebellion in Poems\, Stories\, and Art since 1959.\n\n&nbsp\;\n\n&nb
 sp\;
ATTACH;FMTTYPE=image/jpeg:https://xyzbrighton.com/wp-content/uploads/2022/
 06/0171_ambit_pop_247_facebook_banner.artwork-1-2.png
CATEGORIES:Arts,Live Music,Workshops
LOCATION:The Prince Albert\, The Prince Albert\, 48 Trafalgar St\, Brighton
 \, BN1 4ED\, United Kingdom
GEO:50.828332;-0.139387
X-APPLE-STRUCTURED-LOCATION;VALUE=URI;X-ADDRESS=The Prince Albert\, 48 Traf
 algar St\, Brighton\, BN1 4ED\, United Kingdom;X-APPLE-RADIUS=100;X-TITLE=
 The Prince Albert:geo:50.828332,-0.139387
END:VEVENT
BEGIN:VTIMEZONE
TZID:Europe/London
X-LIC-LOCATION:Europe/London
BEGIN:DAYLIGHT
DTSTART:20220327T020000
TZOFFSETFROM:+0000
TZOFFSETTO:+0100
TZNAME:BST
END:DAYLIGHT
END:VTIMEZONE
END:VCALENDAR