BEGIN:VCALENDAR
VERSION:2.0
PRODID:-//wp-events-plugin.com//7.1.1//EN
TZID:Europe/London
X-WR-TIMEZONE:Europe/London
BEGIN:VEVENT
UID:22534@xyzbrighton.com
DTSTART;TZID=Europe/London:20231214T193000
DTEND;TZID=Europe/London:20231214T213000
DTSTAMP:20231227T110301Z
URL:https://xyzbrighton.com/events/alan-partridge-quiz-bison-beach-bar/
SUMMARY:Alan Partridge Quiz @ Bison Beach Bar
DESCRIPTION:Knowing me\, knowing yule\, aha!\n\nCome and test your knowledg
 e on all things Alan Partridge and be rewarded with a Terry’s Chocolate 
 Orange (with superficial box damage) amongst other cracking Alan goodies.\
 n\n-------------------------------------------\n\nAre you a Rover Vitesse
  Fastback enthusiast? A ‘Best of the Beatles’ aficionado? Always keep 
 your Bond videos a safe distance from the Sunny Delight? If so\, this is t
 he quiz for you!\n\nWith audio\, picture and video rounds covering the ent
 irety of Alan’s oeuvre from Knowing Me\, Knowing You to This Time\, this
  is gonna be a real Toblarone-fueled\, shoe-less drive to Dundee of a quiz
 .\n\nSue Cook may have pulled out but you should still put on your finest 
 sports casuals\, grab your big plates\, turn off your fog lights and get o
 n down to Bison Beach Bar @ Sea Lanes.\n\nWARNING: This quiz may cause you
  to suffer minor women’s whiplash\n\n-----------------------------------
 --------\n\nThis Quiz will take place at Bison Beach Bar @ Sea Lanes.\n\nI
 NFO:\n\nQuiz starts at 7:30pm\n\n£2 per person for quiz entry\n\nMax 6 pe
 r team\n\nNote: Tickets must be purchased in advance to attend this event.
  One ticket per person.\n\n-------------------------------------------\n\n
 PRIZES:\n\nA very special\, custom made\, Alan Partridge trophy.\n\nFOOD &
 amp\; DRINK:\n\nWood x Coal will be serving all evening.\n\n--------------
 -----------------------------\n\nSee you there for some Xmassy Partridge f
 un!
ATTACH;FMTTYPE=image/jpeg:https://xyzbrighton.com/wp-content/uploads/2023/
 12/f1747b96-40c6-4b40-b789-e35b2c14c377.jpg
CATEGORIES:Quizzes
LOCATION:Bison Beach Bar @ Sea Lanes\, 300 Madeira Drive Brighton\, Brighto
 n\, England\, BN2\, United Kingdom
GEO:50.8284;-0.1395
X-APPLE-STRUCTURED-LOCATION;VALUE=URI;X-ADDRESS=300 Madeira Drive Brighton\
 , Brighton\, England\, BN2\, United Kingdom;X-APPLE-RADIUS=100;X-TITLE=Bis
 on Beach Bar @ Sea Lanes:geo:50.8284,-0.1395
END:VEVENT
BEGIN:VTIMEZONE
TZID:Europe/London
X-LIC-LOCATION:Europe/London
BEGIN:STANDARD
DTSTART:20231029T010000
TZOFFSETFROM:+0100
TZOFFSETTO:+0000
TZNAME:GMT
END:STANDARD
END:VTIMEZONE
END:VCALENDAR