BEGIN:VCALENDAR
VERSION:2.0
PRODID:-//wp-events-plugin.com//7.1.1//EN
TZID:Europe/London
X-WR-TIMEZONE:Europe/London
BEGIN:VEVENT
UID:20319@xyzbrighton.com
DTSTART;TZID=Europe/London:20220910T200000
DTEND;TZID=Europe/London:20220911T000000
DTSTAMP:20220817T075153Z
URL:https://xyzbrighton.com/events/afrobeat-brighton-party-the-actors-brig
 hton/
SUMMARY:Afrobeat Brighton Party @ The Actors Brighton
DESCRIPTION:Afrobeat Brighton Party\nAfrobeat Brighton Party is: Sharing th
 e culture with a night of Afrobeat\, Congolese\, Fuji Music\, Soukous\, an
 d more with other music lovers under one roof?!!!\n\nWhere else can you he
 ar\, Afrobeat\, Congolese\, Fuji Music\, Soukous\, and more with other mus
 ic lovers under one roof?!!!\n\nSaturday 10.09.2022 - Opens 8pm 20:00 - 12
 :00 midnight\n\nAre u ready for AFROBEAT BRIGHTON PARTY?!\n\nIt's time to 
 UNLOCK! BRIGHTON WE ARE BACK TO DANCING ALL NIGHT &amp\; IT FEELS INCREDIB
 LY GOOD!\n\nLet's get back to dancing &amp\; partying properly the only wa
 y we do it!\n\nBRIGHTON WE ARE BACK!!! AT THE ACTORS SATURDAY SEPTEMBER 10
 TH!!\n\nTo avoid disappointment book your place now\, book your tickets in
  advance in case we are over subscribed&gt\;&gt\;\n\nA night of Afrobeat\,
  Congolese\, Soukous\, Highlife\, Fuji &amp\; more with music lovers under
  one roof!!\n\nIt will be hosted on Saturday 10th September 2022 (Sura Int
 ernational from 8pm-12midnight!)\n\nA night of Afrobeat\, Congolese\, Souk
 ous\, Highlife\, Fuji &amp\; more with music lovers under one roof.\n▬
 ▬▬\nIt's a good work-out\, dance all night and not be tired - keep fit
  while having fun! You come away feeling exhilarated!!\n▬▬▬ ▬▬
 ▬\nExpect to hear: Fela kuti / Seun Kuti / Femi Kuti / Dede Mabaiku / Fa
 lly Pupa / Newen Afrobeat from Chile / Kologbo with Newen Afrobeat / King 
 Sunny Ade / Prince Smart Wiliams / Kanda Bongo Man / Chief Oliver De Coque
  / Sikiru Ayinde Barrister / Meiway / Bright Chimezie / Lokassa &amp\; Sou
 kous stars / Joe Morgan / D'Banj / Prince Nico Mbarga / Lagbaja / Phyno / 
 K1 De Ultimate / De Gama / Mercy Chinwo / DJ Kaywise / Adewale Ayuba / 9ic
 e / Naira Marley / Wizkid / Emmyblack / Koffi Olomide / Zlatan / Davido / 
 Fireboy / Charly Boy / Naeto C / Zinoleesky / Mayorkun / Adekunle Gold / D
 J Neptune / Awilo / Tekno / Flavour / Diamond Platnumz / Rema / Goya Menor
  / Falz / DJ Obza / Focalistic / Ajebo Hustlers / SwaggBill / Skiibii / Re
 ekado Banks / Italian Somali / Yemi Alade / Timaya / Dr Alban / Austine Sh
 iny / Tiwa Savage / Omar Lay / Patoranking / Danfo Drivers /AND MANY MORE!
 \n\n- ▬▬▬ • ▬▬▬- IMPORTANT INFORMATION: ▬\n\nWear somethin
 g breezy - it gets hot with all the dancing! _____________________________
 ____________________ ••\n\nFor Reservations message: https://www.insta
 gram.com/surainternational/ or\nhttps://www.facebook.com/SuraIinternationa
 l\n _________________________________________________\n\n8pm-12midnight\n
 \nSee you all on the dance floor\n\nPlease like: https://www.facebook.com/
 SuraI...\nPlease like: https://www.instagram.com/sura...\n\n#Brighton #Wo
 rthing #Lewes #Hastings #Haywardsheath #Horsham
ATTACH;FMTTYPE=image/jpeg:https://xyzbrighton.com/wp-content/uploads/2022/
 08/2022-09-10-a.jpg
CATEGORIES:Dance,DJ / Clubbing,Free
LOCATION:The Actors Pub\, 4 Prince's St\,  Kemp Town\, Brighton and Hove\, 
 England\, BN2 1RD\, South East\, United Kingdom
GEO:50.822309;-0.135995
X-APPLE-STRUCTURED-LOCATION;VALUE=URI;X-ADDRESS=4 Prince's St\,  Kemp Town\
 , Brighton and Hove\, England\, BN2 1RD\, South East\, United Kingdom;X-AP
 PLE-RADIUS=100;X-TITLE=The Actors Pub:geo:50.822309,-0.135995
END:VEVENT
BEGIN:VTIMEZONE
TZID:Europe/London
X-LIC-LOCATION:Europe/London
BEGIN:DAYLIGHT
DTSTART:20220327T020000
TZOFFSETFROM:+0000
TZOFFSETTO:+0100
TZNAME:BST
END:DAYLIGHT
END:VTIMEZONE
END:VCALENDAR